BEGIN:VCALENDAR
VERSION:2.0
PRODID:-//American Excellence Schools - ECPv6.15.13//NONSGML v1.0//EN
CALSCALE:GREGORIAN
METHOD:PUBLISH
X-ORIGINAL-URL:https://aes.edu.jo
X-WR-CALDESC:Events for American Excellence Schools
REFRESH-INTERVAL;VALUE=DURATION:PT1H
X-Robots-Tag:noindex
X-PUBLISHED-TTL:PT1H
BEGIN:VTIMEZONE
TZID:UTC
BEGIN:STANDARD
TZOFFSETFROM:+0000
TZOFFSETTO:+0000
TZNAME:UTC
DTSTART:20250101T000000
END:STANDARD
END:VTIMEZONE
BEGIN:VEVENT
DTSTART;TZID=UTC:20260408T080000
DTEND;TZID=UTC:20260408T170000
DTSTAMP:20260420T141233
CREATED:20260309T061005Z
LAST-MODIFIED:20260309T061005Z
UID:10807-1775635200-1775667600@aes.edu.jo
SUMMARY:Trip - Petra & Wadi Rum Trip | G 10\,11\,12
DESCRIPTION:
URL:https://aes.edu.jo/event/trip-petra-wadi-rum-trip-g-101112/
END:VEVENT
END:VCALENDAR