BEGIN:VCALENDAR
VERSION:2.0
PRODID:-//American Excellence Schools - ECPv6.15.13//NONSGML v1.0//EN
CALSCALE:GREGORIAN
METHOD:PUBLISH
X-WR-CALNAME:American Excellence Schools
X-ORIGINAL-URL:https://aes.edu.jo
X-WR-CALDESC:Events for American Excellence Schools
REFRESH-INTERVAL;VALUE=DURATION:PT1H
X-Robots-Tag:noindex
X-PUBLISHED-TTL:PT1H
BEGIN:VTIMEZONE
TZID:UTC
BEGIN:STANDARD
TZOFFSETFROM:+0000
TZOFFSETTO:+0000
TZNAME:UTC
DTSTART:20240101T000000
END:STANDARD
END:VTIMEZONE
BEGIN:VEVENT
DTSTART;TZID=UTC:20260129T080000
DTEND;TZID=UTC:20260129T170000
DTSTAMP:20260419T163830
CREATED:20260308T111607Z
LAST-MODIFIED:20260308T111607Z
UID:10753-1769673600-1769706000@aes.edu.jo
SUMMARY:King Abdullah II  Date of birth - Art  Gallery | G 1-12
DESCRIPTION:
URL:https://aes.edu.jo/event/king-abdullah-ii-date-of-birth-art-gallery-g-1-12/
END:VEVENT
BEGIN:VEVENT
DTSTART;TZID=UTC:20260128T080000
DTEND;TZID=UTC:20260128T170000
DTSTAMP:20260419T163830
CREATED:20260308T111453Z
LAST-MODIFIED:20260308T111453Z
UID:10751-1769587200-1769619600@aes.edu.jo
SUMMARY:Educational Trip -  Dar Aldawa | G 10
DESCRIPTION:
URL:https://aes.edu.jo/event/educational-trip-dar-aldawa-g-10/
END:VEVENT
BEGIN:VEVENT
DTSTART;TZID=UTC:20260127T080000
DTEND;TZID=UTC:20260127T170000
DTSTAMP:20260419T163830
CREATED:20260308T111402Z
LAST-MODIFIED:20260308T111402Z
UID:10749-1769500800-1769533200@aes.edu.jo
SUMMARY:Anti-Narcotics - Awareness Lecture | G 9-12
DESCRIPTION:
URL:https://aes.edu.jo/event/anti-narcotics-awareness-lecture-g-9-12/
END:VEVENT
BEGIN:VEVENT
DTSTART;TZID=UTC:20260127T080000
DTEND;TZID=UTC:20260127T170000
DTSTAMP:20260419T163830
CREATED:20260308T111114Z
LAST-MODIFIED:20260308T111142Z
UID:10745-1769500800-1769533200@aes.edu.jo
SUMMARY:Tuesday Activity - Karate | G 1-6
DESCRIPTION:
URL:https://aes.edu.jo/event/tuesday-activity-karate-g-1-6/
END:VEVENT
BEGIN:VEVENT
DTSTART;TZID=UTC:20260126T080000
DTEND;TZID=UTC:20260126T170000
DTSTAMP:20260419T163830
CREATED:20260308T111301Z
LAST-MODIFIED:20260308T111301Z
UID:10747-1769414400-1769446800@aes.edu.jo
SUMMARY:University Visits - University Visits | G 10\,11\,12
DESCRIPTION:
URL:https://aes.edu.jo/event/university-visits-university-visits-g-101112/
END:VEVENT
BEGIN:VEVENT
DTSTART;TZID=UTC:20260122T080000
DTEND;TZID=UTC:20260122T170000
DTSTAMP:20260419T163830
CREATED:20260308T110546Z
LAST-MODIFIED:20260308T110707Z
UID:10742-1769068800-1769101200@aes.edu.jo
SUMMARY:Prime Ministry -Prime Ministry | Students Council
DESCRIPTION:
URL:https://aes.edu.jo/event/prime-ministry-prime-ministry-students-council/
END:VEVENT
BEGIN:VEVENT
DTSTART;TZID=UTC:20260120T080000
DTEND;TZID=UTC:20260120T170000
DTSTAMP:20260419T163830
CREATED:20260308T110231Z
LAST-MODIFIED:20260308T110231Z
UID:10741-1768896000-1768928400@aes.edu.jo
SUMMARY:Electronic Blackmail (Cyber Extortion)-Workshop & Awareness| 6-12 Girls & Parents
DESCRIPTION:
URL:https://aes.edu.jo/event/electronic-blackmail-cyber-extortion-workshop-awareness-6-12-girls-parents/
END:VEVENT
BEGIN:VEVENT
DTSTART;TZID=UTC:20260115T080000
DTEND;TZID=UTC:20260115T170000
DTSTAMP:20260419T163830
CREATED:20260308T105915Z
LAST-MODIFIED:20260308T105915Z
UID:10739-1768464000-1768496400@aes.edu.jo
SUMMARY:Al Isra' Wal Mi'raj - Awareness Session | G 1-12
DESCRIPTION:
URL:https://aes.edu.jo/event/al-isra-wal-miraj-awareness-session-g-1-12/
END:VEVENT
BEGIN:VEVENT
DTSTART;TZID=UTC:20251225T080000
DTEND;TZID=UTC:20251225T170000
DTSTAMP:20260419T163830
CREATED:20251005T065948Z
LAST-MODIFIED:20251005T065948Z
UID:10174-1766649600-1766682000@aes.edu.jo
SUMMARY:International Trip | G8-12
DESCRIPTION:
URL:https://aes.edu.jo/event/international-trip-g8-12/
END:VEVENT
BEGIN:VEVENT
DTSTART;TZID=UTC:20251210T080000
DTEND;TZID=UTC:20251210T170000
DTSTAMP:20260419T163830
CREATED:20251005T065746Z
LAST-MODIFIED:20251005T065746Z
UID:10164-1765353600-1765386000@aes.edu.jo
SUMMARY:Human Rights Day | G1-G12
DESCRIPTION:
URL:https://aes.edu.jo/event/human-rights-day-g1-g12/
END:VEVENT
BEGIN:VEVENT
DTSTART;TZID=UTC:20251204T080000
DTEND;TZID=UTC:20251204T170000
DTSTAMP:20260419T163830
CREATED:20251005T065927Z
LAST-MODIFIED:20251005T065927Z
UID:10173-1764835200-1764867600@aes.edu.jo
SUMMARY:Adam & Mishmish | G1-G6
DESCRIPTION:
URL:https://aes.edu.jo/event/adam-mishmish-g1-g6/
END:VEVENT
BEGIN:VEVENT
DTSTART;TZID=UTC:20251204T080000
DTEND;TZID=UTC:20251204T170000
DTSTAMP:20260419T163830
CREATED:20251005T065906Z
LAST-MODIFIED:20251005T065906Z
UID:10172-1764835200-1764867600@aes.edu.jo
SUMMARY:Hakawati | G1-G6
DESCRIPTION:
URL:https://aes.edu.jo/event/hakawati-g1-g6/
END:VEVENT
BEGIN:VEVENT
DTSTART;TZID=UTC:20251204T080000
DTEND;TZID=UTC:20251204T170000
DTSTAMP:20260419T163830
CREATED:20251005T065832Z
LAST-MODIFIED:20251005T065832Z
UID:10166-1764835200-1764867600@aes.edu.jo
SUMMARY:Gather old stories and a sell  | G1-G6
DESCRIPTION:
URL:https://aes.edu.jo/event/gather-old-stories-and-a-sell-g1-g6/
END:VEVENT
BEGIN:VEVENT
DTSTART;TZID=UTC:20251204T080000
DTEND;TZID=UTC:20251204T170000
DTSTAMP:20260419T163830
CREATED:20251005T065810Z
LAST-MODIFIED:20251005T065810Z
UID:10165-1764835200-1764867600@aes.edu.jo
SUMMARY:Poem Competition | G1-G6
DESCRIPTION:
URL:https://aes.edu.jo/event/poem-competition-g1-g6/
END:VEVENT
BEGIN:VEVENT
DTSTART;TZID=UTC:20251126T080000
DTEND;TZID=UTC:20251126T170000
DTSTAMP:20260419T163830
CREATED:20251005T065707Z
LAST-MODIFIED:20251005T065707Z
UID:10163-1764144000-1764176400@aes.edu.jo
SUMMARY:Distribute Blankets  | G9
DESCRIPTION:
URL:https://aes.edu.jo/event/distribute-blankets-g9/
END:VEVENT
BEGIN:VEVENT
DTSTART;TZID=UTC:20251120T080000
DTEND;TZID=UTC:20251120T170000
DTSTAMP:20260419T163831
CREATED:20251005T065348Z
LAST-MODIFIED:20251005T065348Z
UID:10158-1763625600-1763658000@aes.edu.jo
SUMMARY:Umrah Trip | G8-G11
DESCRIPTION:
URL:https://aes.edu.jo/event/umrah-trip-g8-g11/
END:VEVENT
BEGIN:VEVENT
DTSTART;TZID=UTC:20251120T080000
DTEND;TZID=UTC:20251120T170000
DTSTAMP:20260419T163831
CREATED:20251005T065327Z
LAST-MODIFIED:20251005T065327Z
UID:10157-1763625600-1763658000@aes.edu.jo
SUMMARY:Visitin SOS | Student Council
DESCRIPTION:
URL:https://aes.edu.jo/event/visitin-sos-student-council/
END:VEVENT
BEGIN:VEVENT
DTSTART;TZID=UTC:20251112T080000
DTEND;TZID=UTC:20251112T170000
DTSTAMP:20260419T163831
CREATED:20251005T065304Z
LAST-MODIFIED:20251005T065304Z
UID:10153-1762934400-1762966800@aes.edu.jo
SUMMARY:Alyoum Farm | 6-May
DESCRIPTION:
URL:https://aes.edu.jo/event/alyoum-farm-6-may/
END:VEVENT
BEGIN:VEVENT
DTSTART;TZID=UTC:20251110T080000
DTEND;TZID=UTC:20251110T170000
DTSTAMP:20260419T163831
CREATED:20251005T065236Z
LAST-MODIFIED:20251005T065236Z
UID:10152-1762761600-1762794000@aes.edu.jo
SUMMARY:Loyal Factory | G4
DESCRIPTION:
URL:https://aes.edu.jo/event/loyal-factory-g4/
END:VEVENT
BEGIN:VEVENT
DTSTART;TZID=UTC:20251105T080000
DTEND;TZID=UTC:20251105T170000
DTSTAMP:20260419T163831
CREATED:20251005T065213Z
LAST-MODIFIED:20251005T065213Z
UID:10151-1762329600-1762362000@aes.edu.jo
SUMMARY:Al Hakaya Museum | G4-G6
DESCRIPTION:
URL:https://aes.edu.jo/event/al-hakaya-museum-g4-g6/
END:VEVENT
BEGIN:VEVENT
DTSTART;TZID=UTC:20251103T080000
DTEND;TZID=UTC:20251103T170000
DTSTAMP:20260419T163831
CREATED:20251005T065133Z
LAST-MODIFIED:20251005T065133Z
UID:10147-1762156800-1762189200@aes.edu.jo
SUMMARY:Seniors Trip | G12
DESCRIPTION:
URL:https://aes.edu.jo/event/seniors-trip-g12/
END:VEVENT
BEGIN:VEVENT
DTSTART;TZID=UTC:20251027T080000
DTEND;TZID=UTC:20251027T170000
DTSTAMP:20260419T163831
CREATED:20251005T065108Z
LAST-MODIFIED:20251005T065108Z
UID:10146-1761552000-1761584400@aes.edu.jo
SUMMARY:Roman Citadel and Roman Theater
DESCRIPTION:
URL:https://aes.edu.jo/event/roman-citadel-and-roman-theater/
END:VEVENT
BEGIN:VEVENT
DTSTART;TZID=UTC:20251024T080000
DTEND;TZID=UTC:20251024T170000
DTSTAMP:20260419T163831
CREATED:20251005T065409Z
LAST-MODIFIED:20251005T065409Z
UID:10159-1761292800-1761325200@aes.edu.jo
SUMMARY:Charity Clothing Bank | G10
DESCRIPTION:
URL:https://aes.edu.jo/event/charity-clothing-bank-g10/
END:VEVENT
BEGIN:VEVENT
DTSTART;TZID=UTC:20251023T080000
DTEND;TZID=UTC:20251023T170000
DTSTAMP:20260419T163831
CREATED:20251005T064633Z
LAST-MODIFIED:20251005T064633Z
UID:10129-1761206400-1761238800@aes.edu.jo
SUMMARY:Tournament | G9-G12
DESCRIPTION:
URL:https://aes.edu.jo/event/tournament-g9-g12/
END:VEVENT
BEGIN:VEVENT
DTSTART;TZID=UTC:20251022T080000
DTEND;TZID=UTC:20251023T170000
DTSTAMP:20260419T163831
CREATED:20251005T065046Z
LAST-MODIFIED:20251005T065046Z
UID:10145-1761120000-1761238800@aes.edu.jo
SUMMARY:Book Fair | G1-G12
DESCRIPTION:
URL:https://aes.edu.jo/event/book-fair-g1-g12/
END:VEVENT
BEGIN:VEVENT
DTSTART;TZID=UTC:20251021T080000
DTEND;TZID=UTC:20251021T170000
DTSTAMP:20260419T163831
CREATED:20251005T065010Z
LAST-MODIFIED:20251005T065010Z
UID:10140-1761033600-1761066000@aes.edu.jo
SUMMARY:Character Day | G1-G4
DESCRIPTION:
URL:https://aes.edu.jo/event/character-day-g1-g4/
END:VEVENT
BEGIN:VEVENT
DTSTART;TZID=UTC:20251020T080000
DTEND;TZID=UTC:20251020T170000
DTSTAMP:20260419T163831
CREATED:20251005T064940Z
LAST-MODIFIED:20251005T064940Z
UID:10139-1760947200-1760979600@aes.edu.jo
SUMMARY:Visit shoman.library |G1-G4
DESCRIPTION:
URL:https://aes.edu.jo/event/visit-shoman-library-g1-g4/
END:VEVENT
BEGIN:VEVENT
DTSTART;TZID=UTC:20251017T080000
DTEND;TZID=UTC:20251017T170000
DTSTAMP:20260419T163831
CREATED:20250923T111845Z
LAST-MODIFIED:20250923T111845Z
UID:9863-1760688000-1760720400@aes.edu.jo
SUMMARY:Little League | G1-G8
DESCRIPTION:
URL:https://aes.edu.jo/event/little-league-g1-g8/
END:VEVENT
BEGIN:VEVENT
DTSTART;TZID=UTC:20251015T080000
DTEND;TZID=UTC:20251015T170000
DTSTAMP:20260419T163831
CREATED:20251005T064844Z
LAST-MODIFIED:20251005T064844Z
UID:10137-1760515200-1760547600@aes.edu.jo
SUMMARY:Magical Night | G5-G6
DESCRIPTION:
URL:https://aes.edu.jo/event/magical-night-g5-g6/
END:VEVENT
BEGIN:VEVENT
DTSTART;TZID=UTC:20251015T080000
DTEND;TZID=UTC:20251015T170000
DTSTAMP:20260419T163831
CREATED:20251005T064756Z
LAST-MODIFIED:20251005T064756Z
UID:10133-1760515200-1760547600@aes.edu.jo
SUMMARY:11+12 Girl | Wax Coloring-Baking a cake
DESCRIPTION:
URL:https://aes.edu.jo/event/1112-girl-wax-coloring-baking-a-cake/
END:VEVENT
END:VCALENDAR