BEGIN:VCALENDAR
VERSION:2.0
PRODID:-//American Excellence Schools - ECPv6.15.13//NONSGML v1.0//EN
CALSCALE:GREGORIAN
METHOD:PUBLISH
X-WR-CALNAME:American Excellence Schools
X-ORIGINAL-URL:https://aes.edu.jo
X-WR-CALDESC:Events for American Excellence Schools
REFRESH-INTERVAL;VALUE=DURATION:PT1H
X-Robots-Tag:noindex
X-PUBLISHED-TTL:PT1H
BEGIN:VTIMEZONE
TZID:UTC
BEGIN:STANDARD
TZOFFSETFROM:+0000
TZOFFSETTO:+0000
TZNAME:UTC
DTSTART:20240101T000000
END:STANDARD
END:VTIMEZONE
BEGIN:VEVENT
DTSTART;TZID=UTC:20250925T080000
DTEND;TZID=UTC:20250925T170000
DTSTAMP:20260420T003410
CREATED:20250923T111356Z
LAST-MODIFIED:20250923T111528Z
UID:9853-1758787200-1758819600@aes.edu.jo
SUMMARY:Soccer Tournament | G 1 – G12
DESCRIPTION:
URL:https://aes.edu.jo/event/soccer-tournament-g-1-g12/
END:VEVENT
BEGIN:VEVENT
DTSTART;TZID=UTC:20250924T080000
DTEND;TZID=UTC:20250924T170000
DTSTAMP:20260420T003410
CREATED:20251005T064103Z
LAST-MODIFIED:20251005T064103Z
UID:10112-1758700800-1758733200@aes.edu.jo
SUMMARY:Hosting students with Down syndrome | G11
DESCRIPTION:
URL:https://aes.edu.jo/event/hosting-students-with-down-syndrome-g11-2/
END:VEVENT
BEGIN:VEVENT
DTSTART;TZID=UTC:20250923T080000
DTEND;TZID=UTC:20250923T170000
DTSTAMP:20260420T003410
CREATED:20250923T112751Z
LAST-MODIFIED:20250923T112751Z
UID:9875-1758614400-1758646800@aes.edu.jo
SUMMARY:AES Election | G4-12
DESCRIPTION:
URL:https://aes.edu.jo/event/aes-election-g4-12/
END:VEVENT
BEGIN:VEVENT
DTSTART;TZID=UTC:20250923T080000
DTEND;TZID=UTC:20250923T170000
DTSTAMP:20260420T003410
CREATED:20250923T112649Z
LAST-MODIFIED:20250923T112649Z
UID:9871-1758614400-1758646800@aes.edu.jo
SUMMARY:Hosting students with Down syndrome | G11
DESCRIPTION:
URL:https://aes.edu.jo/event/hosting-students-with-down-syndrome-g11/
END:VEVENT
BEGIN:VEVENT
DTSTART;TZID=UTC:20250923T080000
DTEND;TZID=UTC:20250923T170000
DTSTAMP:20260420T003410
CREATED:20250923T112550Z
LAST-MODIFIED:20250923T112550Z
UID:9869-1758614400-1758646800@aes.edu.jo
SUMMARY:Visit Dar Alamal | G10
DESCRIPTION:
URL:https://aes.edu.jo/event/visit-dar-alamal-g10/
END:VEVENT
BEGIN:VEVENT
DTSTART;TZID=UTC:20250923T080000
DTEND;TZID=UTC:20250923T170000
DTSTAMP:20260420T003410
CREATED:20250923T105123Z
LAST-MODIFIED:20250923T110751Z
UID:9832-1758614400-1758646800@aes.edu.jo
SUMMARY:Welcome Back |  G 1 - G12
DESCRIPTION:
URL:https://aes.edu.jo/event/welcome-back-grade-g1-g12/
END:VEVENT
BEGIN:VEVENT
DTSTART;TZID=UTC:20250922T080000
DTEND;TZID=UTC:20250922T170000
DTSTAMP:20260420T003410
CREATED:20251005T064042Z
LAST-MODIFIED:20251005T064042Z
UID:10111-1758528000-1758560400@aes.edu.jo
SUMMARY:Visit Dar Alamal |G10
DESCRIPTION:
URL:https://aes.edu.jo/event/visit-dar-alamal-g10-2/
END:VEVENT
BEGIN:VEVENT
DTSTART;TZID=UTC:20250921T080000
DTEND;TZID=UTC:20250922T170000
DTSTAMP:20260420T003410
CREATED:20250923T112011Z
LAST-MODIFIED:20250923T112011Z
UID:9865-1758441600-1758560400@aes.edu.jo
SUMMARY:University visit | G10-G12
DESCRIPTION:
URL:https://aes.edu.jo/event/university-visit-g10-g12-2/
END:VEVENT
BEGIN:VEVENT
DTSTART;TZID=UTC:20250921T080000
DTEND;TZID=UTC:20250921T170000
DTSTAMP:20260420T003410
CREATED:20250923T112154Z
LAST-MODIFIED:20250923T112154Z
UID:9867-1758441600-1758474000@aes.edu.jo
SUMMARY:Finger Print | G1-G12
DESCRIPTION:
URL:https://aes.edu.jo/event/finger-print-g1-g12/
END:VEVENT
BEGIN:VEVENT
DTSTART;TZID=UTC:20250917T080000
DTEND;TZID=UTC:20250917T170000
DTSTAMP:20260420T003410
CREATED:20250923T111755Z
LAST-MODIFIED:20250923T111755Z
UID:9861-1758096000-1758128400@aes.edu.jo
SUMMARY:University visit | G10-G12
DESCRIPTION:
URL:https://aes.edu.jo/event/university-visit-g10-g12/
END:VEVENT
BEGIN:VEVENT
DTSTART;TZID=UTC:20250916T080000
DTEND;TZID=UTC:20250916T170000
DTSTAMP:20260420T003410
CREATED:20250923T111715Z
LAST-MODIFIED:20250923T111715Z
UID:9859-1758009600-1758042000@aes.edu.jo
SUMMARY:BBQ PARTY | G12-G11
DESCRIPTION:
URL:https://aes.edu.jo/event/bbq-party-g12-g11/
END:VEVENT
BEGIN:VEVENT
DTSTART;TZID=UTC:20250809T080000
DTEND;TZID=UTC:20250809T170000
DTSTAMP:20260420T003410
CREATED:20250923T105257Z
LAST-MODIFIED:20250923T110805Z
UID:9835-1754726400-1754758800@aes.edu.jo
SUMMARY:Water Game |  G 1 - G10
DESCRIPTION:
URL:https://aes.edu.jo/event/water-game-grade-1-10/
END:VEVENT
BEGIN:VEVENT
DTSTART;TZID=UTC:20250710T080000
DTEND;TZID=UTC:20250923T170000
DTSTAMP:20260420T003410
CREATED:20250923T134015Z
LAST-MODIFIED:20250923T134015Z
UID:9883-1752134400-1758646800@aes.edu.jo
SUMMARY:Team Building | Teacher's
DESCRIPTION:
URL:https://aes.edu.jo/event/team-building-teachers/
END:VEVENT
BEGIN:VEVENT
DTSTART;TZID=UTC:20250309T080000
DTEND;TZID=UTC:20250309T170000
DTSTAMP:20260420T003410
CREATED:20250923T105907Z
LAST-MODIFIED:20250923T110817Z
UID:9842-1741507200-1741539600@aes.edu.jo
SUMMARY:Hospitality |  G 1 - G12
DESCRIPTION:
URL:https://aes.edu.jo/event/hospitality-grade-1-12/
END:VEVENT
BEGIN:VEVENT
DTSTART;TZID=UTC:20250309T080000
DTEND;TZID=UTC:20250309T170000
DTSTAMP:20260420T003410
CREATED:20250923T105752Z
LAST-MODIFIED:20250923T110708Z
UID:9840-1741507200-1741539600@aes.edu.jo
SUMMARY:Morning assembly  |  G 1 - G12
DESCRIPTION:
URL:https://aes.edu.jo/event/morning-assembly-grade-1-12/
END:VEVENT
BEGIN:VEVENT
DTSTART;TZID=UTC:20250309T080000
DTEND;TZID=UTC:20250309T170000
DTSTAMP:20260420T003410
CREATED:20250923T105352Z
LAST-MODIFIED:20250923T110652Z
UID:9838-1741507200-1741539600@aes.edu.jo
SUMMARY:Last First Day |  G12
DESCRIPTION:
URL:https://aes.edu.jo/event/last-first-day-grade-12/
END:VEVENT
END:VCALENDAR