BEGIN:VCALENDAR
VERSION:2.0
PRODID:-//American Excellence Schools - ECPv6.15.13//NONSGML v1.0//EN
CALSCALE:GREGORIAN
METHOD:PUBLISH
X-WR-CALNAME:American Excellence Schools
X-ORIGINAL-URL:https://aes.edu.jo
X-WR-CALDESC:Events for American Excellence Schools
REFRESH-INTERVAL;VALUE=DURATION:PT1H
X-Robots-Tag:noindex
X-PUBLISHED-TTL:PT1H
BEGIN:VTIMEZONE
TZID:UTC
BEGIN:STANDARD
TZOFFSETFROM:+0000
TZOFFSETTO:+0000
TZNAME:UTC
DTSTART:20240101T000000
END:STANDARD
END:VTIMEZONE
BEGIN:VEVENT
DTSTART;TZID=UTC:20250309T080000
DTEND;TZID=UTC:20250309T170000
DTSTAMP:20260420T064113
CREATED:20250923T105352Z
LAST-MODIFIED:20250923T110652Z
UID:9838-1741507200-1741539600@aes.edu.jo
SUMMARY:Last First Day |  G12
DESCRIPTION:
URL:https://aes.edu.jo/event/last-first-day-grade-12/
END:VEVENT
END:VCALENDAR