BEGIN:VCALENDAR
VERSION:2.0
PRODID:-//American Excellence Schools - ECPv6.15.13//NONSGML v1.0//EN
CALSCALE:GREGORIAN
METHOD:PUBLISH
X-ORIGINAL-URL:https://aes.edu.jo
X-WR-CALDESC:Events for American Excellence Schools
REFRESH-INTERVAL;VALUE=DURATION:PT1H
X-Robots-Tag:noindex
X-PUBLISHED-TTL:PT1H
BEGIN:VTIMEZONE
TZID:UTC
BEGIN:STANDARD
TZOFFSETFROM:+0000
TZOFFSETTO:+0000
TZNAME:UTC
DTSTART:20240101T000000
END:STANDARD
END:VTIMEZONE
BEGIN:VEVENT
DTSTART;TZID=UTC:20251103T080000
DTEND;TZID=UTC:20251103T170000
DTSTAMP:20260421T113207
CREATED:20251005T065133Z
LAST-MODIFIED:20251005T065133Z
UID:10147-1762156800-1762189200@aes.edu.jo
SUMMARY:Seniors Trip | G12
DESCRIPTION:
URL:https://aes.edu.jo/event/seniors-trip-g12/
END:VEVENT
BEGIN:VEVENT
DTSTART;TZID=UTC:20251105T080000
DTEND;TZID=UTC:20251105T170000
DTSTAMP:20260421T113207
CREATED:20251005T065213Z
LAST-MODIFIED:20251005T065213Z
UID:10151-1762329600-1762362000@aes.edu.jo
SUMMARY:Al Hakaya Museum | G4-G6
DESCRIPTION:
URL:https://aes.edu.jo/event/al-hakaya-museum-g4-g6/
END:VEVENT
BEGIN:VEVENT
DTSTART;TZID=UTC:20251110T080000
DTEND;TZID=UTC:20251110T170000
DTSTAMP:20260421T113207
CREATED:20251005T065236Z
LAST-MODIFIED:20251005T065236Z
UID:10152-1762761600-1762794000@aes.edu.jo
SUMMARY:Loyal Factory | G4
DESCRIPTION:
URL:https://aes.edu.jo/event/loyal-factory-g4/
END:VEVENT
BEGIN:VEVENT
DTSTART;TZID=UTC:20251112T080000
DTEND;TZID=UTC:20251112T170000
DTSTAMP:20260421T113207
CREATED:20251005T065304Z
LAST-MODIFIED:20251005T065304Z
UID:10153-1762934400-1762966800@aes.edu.jo
SUMMARY:Alyoum Farm | 6-May
DESCRIPTION:
URL:https://aes.edu.jo/event/alyoum-farm-6-may/
END:VEVENT
BEGIN:VEVENT
DTSTART;TZID=UTC:20251120T080000
DTEND;TZID=UTC:20251120T170000
DTSTAMP:20260421T113207
CREATED:20251005T065327Z
LAST-MODIFIED:20251005T065327Z
UID:10157-1763625600-1763658000@aes.edu.jo
SUMMARY:Visitin SOS | Student Council
DESCRIPTION:
URL:https://aes.edu.jo/event/visitin-sos-student-council/
END:VEVENT
BEGIN:VEVENT
DTSTART;TZID=UTC:20251120T080000
DTEND;TZID=UTC:20251120T170000
DTSTAMP:20260421T113207
CREATED:20251005T065348Z
LAST-MODIFIED:20251005T065348Z
UID:10158-1763625600-1763658000@aes.edu.jo
SUMMARY:Umrah Trip | G8-G11
DESCRIPTION:
URL:https://aes.edu.jo/event/umrah-trip-g8-g11/
END:VEVENT
BEGIN:VEVENT
DTSTART;TZID=UTC:20251126T080000
DTEND;TZID=UTC:20251126T170000
DTSTAMP:20260421T113207
CREATED:20251005T065707Z
LAST-MODIFIED:20251005T065707Z
UID:10163-1764144000-1764176400@aes.edu.jo
SUMMARY:Distribute Blankets  | G9
DESCRIPTION:
URL:https://aes.edu.jo/event/distribute-blankets-g9/
END:VEVENT
END:VCALENDAR