BEGIN:VCALENDAR
VERSION:2.0
PRODID:-//American Excellence Schools - ECPv6.15.13//NONSGML v1.0//EN
CALSCALE:GREGORIAN
METHOD:PUBLISH
X-WR-CALNAME:American Excellence Schools
X-ORIGINAL-URL:https://aes.edu.jo
X-WR-CALDESC:Events for American Excellence Schools
REFRESH-INTERVAL;VALUE=DURATION:PT1H
X-Robots-Tag:noindex
X-PUBLISHED-TTL:PT1H
BEGIN:VTIMEZONE
TZID:UTC
BEGIN:STANDARD
TZOFFSETFROM:+0000
TZOFFSETTO:+0000
TZNAME:UTC
DTSTART:20250101T000000
END:STANDARD
END:VTIMEZONE
BEGIN:VEVENT
DTSTART;TZID=UTC:20260305T080000
DTEND;TZID=UTC:20260305T170000
DTSTAMP:20260419T124049
CREATED:20260308T123940Z
LAST-MODIFIED:20260308T123940Z
UID:10800-1772697600-1772730000@aes.edu.jo
SUMMARY:Ramadan Iftar - Orphans’ Iftar | G 1-12
DESCRIPTION:
URL:https://aes.edu.jo/event/ramadan-iftar-orphans-iftar-g-1-12/
END:VEVENT
BEGIN:VEVENT
DTSTART;TZID=UTC:20260309T080000
DTEND;TZID=UTC:20260309T170000
DTSTAMP:20260419T124049
CREATED:20260309T062142Z
LAST-MODIFIED:20260309T062142Z
UID:10831-1773043200-1773075600@aes.edu.jo
SUMMARY:Scince fair - Scince fair | G 5 - 12
DESCRIPTION:
URL:https://aes.edu.jo/event/scince-fair-scince-fair-g-5-12/
END:VEVENT
BEGIN:VEVENT
DTSTART;TZID=UTC:20260309T080000
DTEND;TZID=UTC:20260309T170000
DTSTAMP:20260419T124049
CREATED:20260309T062231Z
LAST-MODIFIED:20260309T062231Z
UID:10833-1773043200-1773075600@aes.edu.jo
SUMMARY:Senior Graduation - Senior Graduation | G 12
DESCRIPTION:
URL:https://aes.edu.jo/event/senior-graduation-senior-graduation-g-12/
END:VEVENT
BEGIN:VEVENT
DTSTART;TZID=UTC:20260312T080000
DTEND;TZID=UTC:20260312T170000
DTSTAMP:20260419T124049
CREATED:20260308T124033Z
LAST-MODIFIED:20260308T124033Z
UID:10802-1773302400-1773334800@aes.edu.jo
SUMMARY:Ramadan Iftar - Down syndrome | G 1-12
DESCRIPTION:
URL:https://aes.edu.jo/event/ramadan-iftar-down-syndrome-g-1-12/
END:VEVENT
BEGIN:VEVENT
DTSTART;TZID=UTC:20260321T080000
DTEND;TZID=UTC:20260321T170000
DTSTAMP:20260419T124049
CREATED:20260308T123215Z
LAST-MODIFIED:20260308T123215Z
UID:10791-1774080000-1774112400@aes.edu.jo
SUMMARY:The Battle of Karameh - Visit Monument to the Unknown Soldier | G 6
DESCRIPTION:
URL:https://aes.edu.jo/event/the-battle-of-karameh-visit-monument-to-the-unknown-soldier-g-6/
END:VEVENT
BEGIN:VEVENT
DTSTART;TZID=UTC:20260321T080000
DTEND;TZID=UTC:20260321T170000
DTSTAMP:20260419T124049
CREATED:20260308T123617Z
LAST-MODIFIED:20260308T123617Z
UID:10793-1774080000-1774112400@aes.edu.jo
SUMMARY:Mother's Day - Video Messages |  G 1- 12
DESCRIPTION:
URL:https://aes.edu.jo/event/mothers-day-video-messages-g-1-12/
END:VEVENT
BEGIN:VEVENT
DTSTART;TZID=UTC:20260321T080000
DTEND;TZID=UTC:20260321T170000
DTSTAMP:20260419T124049
CREATED:20260308T123721Z
LAST-MODIFIED:20260308T123721Z
UID:10795-1774080000-1774112400@aes.edu.jo
SUMMARY:Mother’s Day – Art Workshop | G 1-5
DESCRIPTION:
URL:https://aes.edu.jo/event/mothers-day-art-workshop-g-1-5/
END:VEVENT
BEGIN:VEVENT
DTSTART;TZID=UTC:20260326T080000
DTEND;TZID=UTC:20260326T170000
DTSTAMP:20260419T124049
CREATED:20260308T123836Z
LAST-MODIFIED:20260308T123836Z
UID:10797-1774512000-1774544400@aes.edu.jo
SUMMARY:Ramadan Iftar - Workers & Drivers | G 1-12
DESCRIPTION:
URL:https://aes.edu.jo/event/ramadan-iftar-workers-drivers-g-1-12/
END:VEVENT
END:VCALENDAR